BEGIN:VCALENDAR
VERSION:2.0
PRODID:-//Church Of God World Missions  Caribbean Region - ECPv6.15.20//NONSGML v1.0//EN
CALSCALE:GREGORIAN
METHOD:PUBLISH
X-WR-CALNAME:Church Of God World Missions  Caribbean Region
X-ORIGINAL-URL:https://cog-caribbean.org
X-WR-CALDESC:Events for Church Of God World Missions  Caribbean Region
REFRESH-INTERVAL;VALUE=DURATION:PT1H
X-Robots-Tag:noindex
X-PUBLISHED-TTL:PT1H
BEGIN:VTIMEZONE
TZID:UTC
BEGIN:STANDARD
TZOFFSETFROM:+0000
TZOFFSETTO:+0000
TZNAME:UTC
DTSTART:20220101T000000
END:STANDARD
END:VTIMEZONE
BEGIN:VEVENT
DTSTART;VALUE=DATE:20231104
DTEND;VALUE=DATE:20231106
DTSTAMP:20260423T160743
CREATED:20230302T195451Z
LAST-MODIFIED:20230302T195451Z
UID:1600-1699056000-1699228799@cog-caribbean.org
SUMMARY:Bethel Bible School Jamaica Graduation
DESCRIPTION:
URL:https://cog-caribbean.org/calendar/bethel-bible-school-jamaica-graduation/
LOCATION:Kingston\, Jamaica
END:VEVENT
BEGIN:VEVENT
DTSTART;VALUE=DATE:20231005
DTEND;VALUE=DATE:20231009
DTSTAMP:20260423T160743
CREATED:20230206T134746Z
LAST-MODIFIED:20230206T140302Z
UID:1394-1696464000-1696809599@cog-caribbean.org
SUMMARY:Virgin Islands Convention
DESCRIPTION:
URL:https://cog-caribbean.org/calendar/virgin-islands-convention/
LOCATION:US Virgin Islands\, Virgin Islands (U.S.)
END:VEVENT
BEGIN:VEVENT
DTSTART;VALUE=DATE:20230913
DTEND;VALUE=DATE:20230918
DTSTAMP:20260423T160743
CREATED:20230302T195403Z
LAST-MODIFIED:20230805T044443Z
UID:1598-1694563200-1694995199@cog-caribbean.org
SUMMARY:Bermuda Convention
DESCRIPTION:
URL:https://cog-caribbean.org/calendar/bermuda-convention/
LOCATION:Hamilton\, Bermuda
END:VEVENT
BEGIN:VEVENT
DTSTART;VALUE=DATE:20230719
DTEND;VALUE=DATE:20230724
DTSTAMP:20260423T160743
CREATED:20230302T195258Z
LAST-MODIFIED:20230302T195700Z
UID:1595-1689724800-1690156799@cog-caribbean.org
SUMMARY:Caribbean Assembly
DESCRIPTION:
URL:https://cog-caribbean.org/calendar/caribbean-assembly/
LOCATION:Bridgetown
END:VEVENT
BEGIN:VEVENT
DTSTART;VALUE=DATE:20230706
DTEND;VALUE=DATE:20230710
DTSTAMP:20260423T160743
CREATED:20230302T194653Z
LAST-MODIFIED:20230302T194653Z
UID:1592-1688601600-1688947199@cog-caribbean.org
SUMMARY:Jamaica National Convention
DESCRIPTION:
URL:https://cog-caribbean.org/calendar/jamaica-national-convention/
LOCATION:Kingston\, Jamaica
END:VEVENT
BEGIN:VEVENT
DTSTART;VALUE=DATE:20230625
DTEND;VALUE=DATE:20230703
DTSTAMP:20260423T160743
CREATED:20230302T194333Z
LAST-MODIFIED:20230302T194333Z
UID:1590-1687651200-1688342399@cog-caribbean.org
SUMMARY:Cayman Islands Convention
DESCRIPTION:
URL:https://cog-caribbean.org/calendar/cayman-islands-convention/
END:VEVENT
BEGIN:VEVENT
DTSTART;VALUE=DATE:20230531
DTEND;VALUE=DATE:20230605
DTSTAMP:20260423T160743
CREATED:20230302T193618Z
LAST-MODIFIED:20230302T194150Z
UID:1587-1685491200-1685923199@cog-caribbean.org
SUMMARY:Turks and Caicos Islands Convention
DESCRIPTION:
URL:https://cog-caribbean.org/calendar/turks-and-caicos-islands-convention/
LOCATION:Turks and Caicos Islands
END:VEVENT
BEGIN:VEVENT
DTSTART;VALUE=DATE:20230524
DTEND;VALUE=DATE:20230529
DTSTAMP:20260423T160743
CREATED:20230302T193505Z
LAST-MODIFIED:20230302T193505Z
UID:1584-1684886400-1685318399@cog-caribbean.org
SUMMARY:Grenada National Convention
DESCRIPTION:
URL:https://cog-caribbean.org/calendar/grenada-national-convention/
LOCATION:St. George\, Grenada
END:VEVENT
BEGIN:VEVENT
DTSTART;VALUE=DATE:20230426
DTEND;VALUE=DATE:20230501
DTSTAMP:20260423T160743
CREATED:20230302T192958Z
LAST-MODIFIED:20230302T192958Z
UID:1581-1682467200-1682899199@cog-caribbean.org
SUMMARY:St. Vincent and the Grenadines/St. Lucia Convention
DESCRIPTION:
URL:https://cog-caribbean.org/calendar/st-vincent-and-the-grenadines-st-lucia-convention/
LOCATION:New Testament Church of God\, Wilson Hill\, Kingstown\, Saint Vincent and The Grenadines
END:VEVENT
BEGIN:VEVENT
DTSTART;VALUE=DATE:20230420
DTEND;VALUE=DATE:20230424
DTSTAMP:20260423T160743
CREATED:20230206T134917Z
LAST-MODIFIED:20230206T134917Z
UID:1390-1681948800-1682294399@cog-caribbean.org
SUMMARY:I am Woman Conference
DESCRIPTION:
URL:https://cog-caribbean.org/calendar/i-am-woman-conference/
LOCATION:Workshops Convention Centre\, Montego Bay\, Jamaica
END:VEVENT
BEGIN:VEVENT
DTSTART;VALUE=DATE:20230413
DTEND;VALUE=DATE:20230417
DTSTAMP:20260423T160743
CREATED:20230206T135141Z
LAST-MODIFIED:20230206T140206Z
UID:1398-1681344000-1681689599@cog-caribbean.org
SUMMARY:Guyana National Convention
DESCRIPTION:
URL:https://cog-caribbean.org/calendar/guyana-national-convention/
LOCATION:Georgetown\, Guyana\, Guyana
END:VEVENT
BEGIN:VEVENT
DTSTART;VALUE=DATE:20230330
DTEND;VALUE=DATE:20230403
DTSTAMP:20260423T160743
CREATED:20230302T191941Z
LAST-MODIFIED:20230302T192318Z
UID:1576-1680134400-1680479999@cog-caribbean.org
SUMMARY:British Virgin Islands Convention
DESCRIPTION:
URL:https://cog-caribbean.org/calendar/british-virgin-islands-convention/
LOCATION:International Worship Center\, Baugher's Bay\, Road Town\, Virgin Islands (British)
END:VEVENT
BEGIN:VEVENT
DTSTART;VALUE=DATE:20230322
DTEND;VALUE=DATE:20230327
DTSTAMP:20260423T160743
CREATED:20230302T190936Z
LAST-MODIFIED:20230302T190936Z
UID:1572-1679443200-1679875199@cog-caribbean.org
SUMMARY:Bahamas Convention
DESCRIPTION:
URL:https://cog-caribbean.org/calendar/bahamas-convention/
LOCATION:Nassau\, Bahamas
END:VEVENT
BEGIN:VEVENT
DTSTART;VALUE=DATE:20230320
DTEND;VALUE=DATE:20230323
DTSTAMP:20260423T160743
CREATED:20230302T190748Z
LAST-MODIFIED:20230302T190748Z
UID:1570-1679270400-1679529599@cog-caribbean.org
SUMMARY:Hispanic Region Convention
DESCRIPTION:
URL:https://cog-caribbean.org/calendar/hispanic-region-convention/
END:VEVENT
BEGIN:VEVENT
DTSTART;VALUE=DATE:20230312
DTEND;VALUE=DATE:20230316
DTSTAMP:20260423T160743
CREATED:20230302T190707Z
LAST-MODIFIED:20230302T190707Z
UID:1567-1678579200-1678924799@cog-caribbean.org
SUMMARY:Saint Kitts and Nevis Convention
DESCRIPTION:
URL:https://cog-caribbean.org/calendar/saint-kitts-and-nevis-convention/
LOCATION:Basseterre\, Saint Kitts and Nevis
END:VEVENT
BEGIN:VEVENT
DTSTART;VALUE=DATE:20230309
DTEND;VALUE=DATE:20230313
DTSTAMP:20260423T160743
CREATED:20230302T190606Z
LAST-MODIFIED:20230302T190606Z
UID:1564-1678320000-1678665599@cog-caribbean.org
SUMMARY:Bermuda Women's Conference
DESCRIPTION:
URL:https://cog-caribbean.org/calendar/bermuda-womens-conference/
LOCATION:Hamilton\, Bermuda
END:VEVENT
BEGIN:VEVENT
DTSTART;VALUE=DATE:20230308
DTEND;VALUE=DATE:20230311
DTSTAMP:20260423T160743
CREATED:20230302T190318Z
LAST-MODIFIED:20230302T190318Z
UID:1561-1678233600-1678492799@cog-caribbean.org
SUMMARY:Dominican Republic Convention
DESCRIPTION:
URL:https://cog-caribbean.org/calendar/dominican-republic-convention/
LOCATION:Santo Domingo\, Dominican Republic
END:VEVENT
BEGIN:VEVENT
DTSTART;VALUE=DATE:20230302
DTEND;VALUE=DATE:20230306
DTSTAMP:20260423T160743
CREATED:20230302T185250Z
LAST-MODIFIED:20230302T190142Z
UID:1554-1677715200-1678060799@cog-caribbean.org
SUMMARY:Trinidad and Tobago Convention
DESCRIPTION:
URL:https://cog-caribbean.org/calendar/trinidad-and-tobago-convention/
LOCATION:Trinidad and Tobago\, Port of Spain\, Trinidad and Tobago
END:VEVENT
END:VCALENDAR